BEGIN:VCALENDAR
VERSION:2.0
PRODID:SFPL Web Calendar
BEGIN:VEVENT
UID:60977@sfpl.org
DTSTAMP:20230727T183000Z
DTSTART:20230727T183000Z
DTEND:20230727T200000Z
SUMMARY:Activity: Alka-Seltzer Rockets
DESCRIPTION:<p>Make your own <em>Alka</em>-<em>Seltzer Rocket</em> and see how high it can fly. For children ages 5 and older.</p>
LOCATION:Marina - Marina Back Courtyard
CLASS:PUBLIC
TRANSP:TRANSPARENT
END:VEVENT
BEGIN:VALARM
TRIGGER:-PT1440M
ACTION:DISPLAY
DESCRIPTION:Event Reminder - Activity: Alka-Seltzer Rockets
END:VALARM
END:VCALENDAR