BEGIN:VCALENDAR
VERSION:2.0
PRODID:SFPL Web Calendar
BEGIN:VEVENT
UID:60982@sfpl.org
DTSTAMP:20230730T210000Z
DTSTART:20230730T210000Z
DTEND:20230730T230000Z
SUMMARY:Workshop: Tie Dye for All Ages
DESCRIPTION:<p>Bring your own white 100% cotton garment and create a wearable work of art. For ages 5 and older.</p>
LOCATION:Park - Park Meeting Room
CLASS:PUBLIC
TRANSP:TRANSPARENT
END:VEVENT
BEGIN:VALARM
TRIGGER:-PT1440M
ACTION:DISPLAY
DESCRIPTION:Event Reminder - Workshop: Tie Dye for All Ages
END:VALARM
END:VCALENDAR