BEGIN:VCALENDAR
VERSION:2.0
PRODID:SFPL Web Calendar
BEGIN:VEVENT
UID:60987@sfpl.org
DTSTAMP:20230524T003000Z
DTSTART:20230524T003000Z
DTEND:20230524T023000Z
SUMMARY:Book Club:  "Practical Consciousness"  by Ingvar Villido
DESCRIPTION:<p>In his new book, <em>Practical Consciousness: Freeing Yourself from Emotional Addiction to Live a More Joyful Life,</em> Ingvar Villido shares a life-changing secret, disturbing emotions are Not permanent residents inside you. He has found a way to free yourself from them quickly and using simple techniques. Olga Green, a practical consciousness teacher, will lead the book discussion.&nbsp;</p>
LOCATION:Richmond/Senator Milton Marks - Richmond Meeting Room
CLASS:PUBLIC
TRANSP:TRANSPARENT
END:VEVENT
BEGIN:VALARM
TRIGGER:-PT1440M
ACTION:DISPLAY
DESCRIPTION:Event Reminder - Book Club:  "Practical Consciousness"  by Ingvar Villido
END:VALARM
END:VCALENDAR