BEGIN:VCALENDAR
VERSION:2.0
PRODID:SFPL Web Calendar
BEGIN:VEVENT
UID:61001@sfpl.org
DTSTAMP:20230509T020000Z
DTSTART:20230509T020000Z
DTEND:20230509T030000Z
SUMMARY:Workshop: Chinese Calligraphy with JoJo Liu
DESCRIPTION:<p>Local artist Jojo Liu demonstrates the art of of traditional Chinese calligraphy. Liu will be teaching you how to hold a brush, write basic strokes and write standing.&nbsp;</p>

<p>Liu is a San&nbsp;Francisco based art instructor at Pacific Art League.</p>

<p>&nbsp;</p>

<p><strong>Supplies needed:&nbsp;</strong></p>

<p>Calligraphy or round brush</p>

<p>Chinese ink/holder</p>

<p>Practice paper (could even be newspaper)</p>

<p>&nbsp;</p>

<p>Below are a few local places you can obtain supplies, there are many more.&nbsp;</p>

<p>&nbsp;</p>

<p><a href="https://usa.kinokuniya.com/stores-maido-san-francisco-2f"><u>Maido San Francisco</u></a></p>

<p>Japan Center Building - 2nd Floor, 1581 Webster Street, #218 San Francisco, CA 94115&nbsp;</p>

<p>(415) 567-8901</p>

<p>&nbsp;</p>

<p><a href="https://www.dickblick.com/stores/california/san-francisco-market-st/"><u>Blick Art Materials</u></a></p>

<p>1930 Van Ness Ave, San Francisco, CA 94109, <a href="https://www.google.com/search?q=blick%20art%20sf&rlz=1C1FKPE_enUS1042US1042&oq=blick+art+sf&aqs=chrome..69i57.4224j0j4&sourceid=chrome&ie=UTF-8&tbs=lf:1,lf_ui:4&tbm=lcl&sxsrf=APwXEddL6UUh2G5n6lycU8O4xzmRogAXCQ:1680118273808&rflfq=1&num=10&rldimm=9096806972303050430&lqi=CgxibGljayBhcnQgc2YiA4gBAUjxmcDTi6uAgAhaIBAAEAEYABgBGAIiDGJsaWNrIGFydCBzZioGCAIQABABkgEQYXJ0X3N1cHBseV9zdG9yZZoBJENoZERTVWhOTUc5blMwVkpRMEZuU1VObGVYQmlObWwzUlJBQqoBMhABKg0iCWJsaWNrIGFydCgAMh8QASIbiSNUMGZWxE7ANEBoanG7MXvCdekF4t86LpDV4AEA&ved=2ahUKEwi694-n8IH-AhUhIzQIHTZvDkMQvS56BAgYEAE&sa=X&rlst=f#">(415) 409-1359</a></p>

<p>also</p>

<p>979 Market St, San Francisco, CA 94103, <a href="https://www.google.com/search?q=blick%20art%20sf&rlz=1C1FKPE_enUS1042US1042&oq=blick+art+sf&aqs=chrome..69i57.4224j0j4&sourceid=chrome&ie=UTF-8&tbs=lf:1,lf_ui:4&tbm=lcl&sxsrf=APwXEddL6UUh2G5n6lycU8O4xzmRogAXCQ:1680118273808&rflfq=1&num=10&rldimm=9096806972303050430&lqi=CgxibGljayBhcnQgc2YiA4gBAUjxmcDTi6uAgAhaIBAAEAEYABgBGAIiDGJsaWNrIGFydCBzZioGCAIQABABkgEQYXJ0X3N1cHBseV9zdG9yZZoBJENoZERTVWhOTUc5blMwVkpRMEZuU1VObGVYQmlObWwzUlJBQqoBMhABKg0iCWJsaWNrIGFydCgAMh8QASIbiSNUMGZWxE7ANEBoanG7MXvCdekF4t86LpDV4AEA&ved=2ahUKEwi694-n8IH-AhUhIzQIHTZvDkMQvS56BAgYEAE&sa=X&rlst=f#">(415) 348-8600</a></p>

<p>&nbsp;</p>

<p>Connect:</p>

<p><a href="https://www.jojocalligraphy.com/"><u>JoJo Liu - Website</u></a> | <a href="https://www.instagram.com/jojo_calligraphy/"><u>JoJo Liu - Instagram </u></a></p>
LOCATION:Virtual Library
CLASS:PUBLIC
TRANSP:TRANSPARENT
END:VEVENT
BEGIN:VALARM
TRIGGER:-PT1440M
ACTION:DISPLAY
DESCRIPTION:Event Reminder - Workshop: Chinese Calligraphy with JoJo Liu
END:VALARM
END:VCALENDAR