BEGIN:VCALENDAR
VERSION:2.0
PRODID:SFPL Web Calendar
BEGIN:VEVENT
UID:61022@sfpl.org
DTSTAMP:20230726T200000Z
DTSTART:20230726T200000Z
DTEND:20230726T210000Z
SUMMARY:Workshop: Lip Balm
DESCRIPTION:<p>Make customized lip balm with essential oils, colors and scents.</p>

<p>Space limited. Reservations required: (415) 355-5700.</p>
LOCATION:Ortega - Ortega Meeting Room
CLASS:PUBLIC
TRANSP:TRANSPARENT
END:VEVENT
BEGIN:VALARM
TRIGGER:-PT1440M
ACTION:DISPLAY
DESCRIPTION:Event Reminder - Workshop: Lip Balm
END:VALARM
END:VCALENDAR