BEGIN:VCALENDAR
VERSION:2.0
PRODID:SFPL Web Calendar
BEGIN:VEVENT
UID:61073@sfpl.org
DTSTAMP:20260412T210000Z
DTSTART:20260412T210000Z
DTEND:20260412T220000Z
SUMMARY:Workshop: Collage Portraits
DESCRIPTION:<p>Create a colorful portrait using paper collage techniques.&nbsp;</p><p>For ages 8–18.</p>
LOCATION:West Portal - West Portal Children's Area
CLASS:PUBLIC
TRANSP:TRANSPARENT
END:VEVENT
BEGIN:VALARM
TRIGGER:-PT1440M
ACTION:DISPLAY
DESCRIPTION:Event Reminder - Workshop: Collage Portraits
END:VALARM
END:VCALENDAR