BEGIN:VCALENDAR
VERSION:2.0
PRODID:SFPL Web Calendar
BEGIN:VEVENT
UID:61109@sfpl.org
DTSTAMP:20230727T010000Z
DTSTART:20230727T010000Z
DTEND:20230727T020000Z
SUMMARY:Storytime: Stuffed Animal Sleepover and Pajama Storytime
DESCRIPTION:<p>Cuddle up in your pajamas and enjoy songs and stories to help you get ready for bed. Bring your stuffed animal for a stuffed animal sleepover. Your stuffed animal will get to party overnight with the other stuffed animals inside the library and&nbsp;staff will take photos so you can see what they got up to.&nbsp;You may drop the stuffed animal off during storytime. Pick&nbsp;up your stuffed animal Thursday and a photo book starting Friday, 7/28.&nbsp; For children and their families.</p>
LOCATION:Portola - Portola Meeting Room
CLASS:PUBLIC
TRANSP:TRANSPARENT
END:VEVENT
BEGIN:VALARM
TRIGGER:-PT1440M
ACTION:DISPLAY
DESCRIPTION:Event Reminder - Storytime: Stuffed Animal Sleepover and Pajama Storytime
END:VALARM
END:VCALENDAR