BEGIN:VCALENDAR
VERSION:2.0
PRODID:SFPL Web Calendar
BEGIN:VEVENT
UID:61245@sfpl.org
DTSTAMP:20230517T230000Z
DTSTART:20230517T230000Z
DTEND:20230518T000000Z
SUMMARY:Activity: Popsicle Stick Frame
DESCRIPTION:<p>Learn how to make a popsicle stick frame and display your favorite quote in it. We will have quotes from Toni Morrison available in commemoration of the new Morrison Forever Stamp.</p>

<p>For ages 5 and older.</p>
LOCATION:Visitacion Valley - Visitacion Valley Meeting Room
CLASS:PUBLIC
TRANSP:TRANSPARENT
END:VEVENT
BEGIN:VALARM
TRIGGER:-PT1440M
ACTION:DISPLAY
DESCRIPTION:Event Reminder - Activity: Popsicle Stick Frame
END:VALARM
END:VCALENDAR