BEGIN:VCALENDAR
VERSION:2.0
PRODID:SFPL Web Calendar
BEGIN:VEVENT
UID:61365@sfpl.org
DTSTAMP:20231223T190000Z
DTSTART:20231223T190000Z
DTEND:20231223T203000Z
SUMMARY:Cancelled: Activity: Giant Math Winder
DESCRIPTION:<p>Calculations create a winding path of equations from one side of the gameboard to the other. For ages 6&ndash;12.</p>
LOCATION:Chinatown/Him Mark Lai - Chinatown Meeting Room
CLASS:PUBLIC
TRANSP:TRANSPARENT
END:VEVENT
BEGIN:VALARM
TRIGGER:-PT1440M
ACTION:DISPLAY
DESCRIPTION:Event Reminder - Cancelled: Activity: Giant Math Winder
END:VALARM
END:VCALENDAR