BEGIN:VCALENDAR
VERSION:2.0
PRODID:SFPL Web Calendar
BEGIN:VEVENT
UID:61379@sfpl.org
DTSTAMP:20230512T223000Z
DTSTART:20230512T223000Z
DTEND:20230513T000000Z
SUMMARY:Workshop: Origami with Esther Kwan
DESCRIPTION:<p>Learn how to use a Japanese folding method with Esther Kwan and create a book that "twists & turns&rdquo;. For ages 8-12. Space limited. Reservations required: (415) 355-2889.</p>
LOCATION:Chinatown/Him Mark Lai - Chinatown Meeting Room
CLASS:PUBLIC
TRANSP:TRANSPARENT
END:VEVENT
BEGIN:VALARM
TRIGGER:-PT1440M
ACTION:DISPLAY
DESCRIPTION:Event Reminder - Workshop: Origami with Esther Kwan
END:VALARM
END:VCALENDAR