BEGIN:VCALENDAR
VERSION:2.0
PRODID:SFPL Web Calendar
BEGIN:VEVENT
UID:61560@sfpl.org
DTSTAMP:20230509T223000Z
DTSTART:20230509T223000Z
DTEND:20230509T233000Z
SUMMARY:Workshop: Paper Dolls with Illustrator Minnie Phan
DESCRIPTION:<p>Join Minnie Phan, 2022 Summer Stride artist, as she offers an art making workshop based on illustrations from her book, <a href="https://sfpl.bibliocommons.com/v2/record/S93C5730546">The Yellow &Aacute;o D&agrave;i</a>. For ages 5 and older. Space limited. Reservations required: (415)355-2868.</p>

<p>Phan is an illustrator based in Oakland, California. She is passionate about storytelling and inclusive image making. With a unique focus on diversity, her work ranges from editorial illustrations to comics, animation and posters. When she isn't illustrating, she teaches Bay Area youth how to create comics; plays with her adopted bunny, Momo; and advocates for safer streets for bicyclists&mdash;and cats.</p>

<p>Connect:</p>

<p><a href="https://www.minniephan.com/">Minnie Phan - Website</a> | <a href="https://www.instagram.com/minnie_phan/">Minnie Phan - Instagram</a></p>
LOCATION:Excelsior - Excelsior Meeting Room
CLASS:PUBLIC
TRANSP:TRANSPARENT
END:VEVENT
BEGIN:VALARM
TRIGGER:-PT1440M
ACTION:DISPLAY
DESCRIPTION:Event Reminder - Workshop: Paper Dolls with Illustrator Minnie Phan
END:VALARM
END:VCALENDAR