BEGIN:VCALENDAR
VERSION:2.0
PRODID:SFPL Web Calendar
BEGIN:VEVENT
UID:61688@sfpl.org
DTSTAMP:20230726T220000Z
DTSTART:20230726T220000Z
DTEND:20230726T230000Z
SUMMARY:Workshop: Marble Paper Making
DESCRIPTION:<p>Explore color, create patterns, and make&nbsp;a unique marbled paper masterpiece. For ages 5 and older.&nbsp;</p>
LOCATION:Merced - Merced Patio
CLASS:PUBLIC
TRANSP:TRANSPARENT
END:VEVENT
BEGIN:VALARM
TRIGGER:-PT1440M
ACTION:DISPLAY
DESCRIPTION:Event Reminder - Workshop: Marble Paper Making
END:VALARM
END:VCALENDAR