BEGIN:VCALENDAR
VERSION:2.0
PRODID:SFPL Web Calendar
BEGIN:VEVENT
UID:62474@sfpl.org
DTSTAMP:20230513T180000Z
DTSTART:20230513T180000Z
DTEND:20230513T190000Z
SUMMARY:Celebration: Chow Fun!
DESCRIPTION:<p>Celebrate AANHPI Heritage Month and Small Business Week in the Excelsior! From Saturday, May 13&ndash;Saturday, May 20,&nbsp;<strong>Chow Fun</strong>&nbsp;will feature an Asian dine-around, cooking demos, culinary events, cultural performances&nbsp;and raffle prizes.</p>

<p>The kickoff event will be Saturday, May 13th <strong>outside</strong> Excelsior Public Library on Cotter St.</p>
LOCATION:Excelsior - Excelsior General Floor Area
CLASS:PUBLIC
TRANSP:TRANSPARENT
END:VEVENT
BEGIN:VALARM
TRIGGER:-PT1440M
ACTION:DISPLAY
DESCRIPTION:Event Reminder - Celebration: Chow Fun!
END:VALARM
END:VCALENDAR