BEGIN:VCALENDAR
VERSION:2.0
PRODID:SFPL Web Calendar
BEGIN:VEVENT
UID:62546@sfpl.org
DTSTAMP:20230722T170000Z
DTSTART:20230722T170000Z
DTEND:20230722T220000Z
SUMMARY:Social: Point Bonita Lighthouse Field Trip
DESCRIPTION:<p>Take a guided tour to the Point Bonita Lighthouse. This will include history, interactive questions, and an opportunity to take in the views. Followed by a visit to Rodeo Beach!</p>

<p>Space is limited and advance registration is required. Stop by the Sunset Branch&nbsp;Library to reserve your spot.</p>

<p>A partnership with the National Park Service.</p>
LOCATION:Sunset - Sunset Program Room
CLASS:PUBLIC
TRANSP:TRANSPARENT
END:VEVENT
BEGIN:VALARM
TRIGGER:-PT1440M
ACTION:DISPLAY
DESCRIPTION:Event Reminder - Social: Point Bonita Lighthouse Field Trip
END:VALARM
END:VCALENDAR