BEGIN:VCALENDAR
VERSION:2.0
PRODID:SFPL Web Calendar
BEGIN:VEVENT
UID:62547@sfpl.org
DTSTAMP:20230729T164500Z
DTSTART:20230729T164500Z
DTEND:20230729T223000Z
SUMMARY:Social: Muir Woods Field Trip
DESCRIPTION:<p>Take a field trip to Muir Woods and learn about Redwood trees. Coast Redwoods are the tallest trees on the planet and only occur naturally on the Pacific Coast. Once a forest is established, they are resilient and resistant to almost every imaginable stressor, including droughts, insects, fires and floods.&nbsp;Together, we'll learn more about their past, their present, and their future in a changing world.</p>

<p>Space is limited and advance registration is required. Walk-in registration begins June 20. Stop by the Chinatown&nbsp;Branch Library to reserve your spot.&nbsp;Call-in registration begins July 10.</p>

<p>A partnership with the National Park Service.</p>
LOCATION:Chinatown/Him Mark Lai - Chinatown Front
CLASS:PUBLIC
TRANSP:TRANSPARENT
END:VEVENT
BEGIN:VALARM
TRIGGER:-PT1440M
ACTION:DISPLAY
DESCRIPTION:Event Reminder - Social: Muir Woods Field Trip
END:VALARM
END:VCALENDAR