BEGIN:VCALENDAR
VERSION:2.0
PRODID:SFPL Web Calendar
BEGIN:VEVENT
UID:62670@sfpl.org
DTSTAMP:20230727T013000Z
DTSTART:20230727T013000Z
DTEND:20230727T023000Z
SUMMARY:Book Club: East of Eden
DESCRIPTION:<p><em>East of Eden</em> by John Steinbeck is the story of two families&mdash;the Trasks and Hamiltons. The families are traced through three generations, in a retelling of the Biblical stories of Adam and of Cain and Abel.</p>
LOCATION:Mission Bay - Mission Bay Program Room
CLASS:PUBLIC
TRANSP:TRANSPARENT
END:VEVENT
BEGIN:VALARM
TRIGGER:-PT1440M
ACTION:DISPLAY
DESCRIPTION:Event Reminder - Book Club: East of Eden
END:VALARM
END:VCALENDAR