BEGIN:VCALENDAR
VERSION:2.0
PRODID:SFPL Web Calendar
BEGIN:VEVENT
UID:62984@sfpl.org
DTSTAMP:20230722T170000Z
DTSTART:20230722T170000Z
DTEND:20230722T190000Z
SUMMARY:Workshop: Mandarin for Beginners
DESCRIPTION:<p>Learn basic Mandarin and Chinese culture. All materials are provided. Registration is required. Please call: 415-355-5600.</p>

<p>There will be six sessions: June 10, June 17, June 24, July 8, July 15&nbsp;and July 22&nbsp;from 10:00a.m. to 12:00&nbsp;p.m..</p>

<p>在每堂課中，我們會學習基本的普通話，並提供所有學習材料。請致電&nbsp;415-355-5600&nbsp;報名。</p>

<p>由專業導師授課。整個課程有六節課：&nbsp;6/10, 6/17, 6/24,&nbsp;7/8, 7/15, 7/22上午&nbsp;10:00 至&nbsp;中午12:00。</p>

<p>This program is provided by a partnership with the&nbsp;<a href="https://www.taiwanembassy.org/ussfo_en/index.html">Education Division of the Taipei Economic and Cultural Office in San Francisco</a>, Taiwan Center for Mandarin Learning Chinese Cultural Learning Center&nbsp;and Richmond&nbsp;Branch Library.&nbsp;</p>

<p>本課程由駐舊金山台北經濟文化辦事處教育組, 北加中華文化學習中心及三藩市公立圖書館列治文區分館合作提供。</p>

<p>&nbsp;</p>
LOCATION:Richmond/Senator Milton Marks - Richmond Meeting Room
CLASS:PUBLIC
TRANSP:TRANSPARENT
END:VEVENT
BEGIN:VALARM
TRIGGER:-PT1440M
ACTION:DISPLAY
DESCRIPTION:Event Reminder - Workshop: Mandarin for Beginners
END:VALARM
END:VCALENDAR