BEGIN:VCALENDAR
VERSION:2.0
PRODID:SFPL Web Calendar
BEGIN:VEVENT
UID:63097@sfpl.org
DTSTAMP:20230524T200000Z
DTSTART:20230524T200000Z
DTEND:20230524T230000Z
SUMMARY:Services: Pop-Up Vaccination Clinic
DESCRIPTION:<p>Get your free COVID/ flu vaccine at this pop-up vaccine clinic.&nbsp;Stop by or register in advance through the following links:&nbsp;<a href="https://myturn.ca.gov/screening?config=2605ae55-e32b-468c-af43-9d886d057f77">Registration in English Language</a>&nbsp;or&nbsp;<a href="https://myturn.ca.gov/screening?config=3c57cbdb-c77a-4c12-ab13-6c45b8744e76">Registration in Spanish Language</a>. Available for anyone ages 5 and older.</p>

<p>&nbsp;</p>

<p>&nbsp;</p>
LOCATION:Visitacion Valley - Visitacion Valley General Floor Area
CLASS:PUBLIC
TRANSP:TRANSPARENT
END:VEVENT
BEGIN:VALARM
TRIGGER:-PT1440M
ACTION:DISPLAY
DESCRIPTION:Event Reminder - Services: Pop-Up Vaccination Clinic
END:VALARM
END:VCALENDAR