BEGIN:VCALENDAR
VERSION:2.0
PRODID:SFPL Web Calendar
BEGIN:VEVENT
UID:64121@sfpl.org
DTSTAMP:20231224T233000Z
DTSTART:20231224T233000Z
DTEND:20231225T003000Z
SUMMARY:Book Club: Somewhere in Time historical fiction
DESCRIPTION:<p>If you enjoy some history in your fiction, spend an hour hashing out the details of&mdash;and the history behind&mdash;this month&rsquo;s selection. Beginning in China in 1345, <a href="https://sfpl.bibliocommons.com/v2/record/S93C4809672"><em>She Who Became the Sun</em></a> tells the story of a girl who refused the fate of nothingness assigned her and strove to rise to the greatness predicted for her younger brother who died&nbsp;of despair.</p>

<p><strong>This is a hybrid event. Registration is required for Zoom attendance. In-person attendance does not require registration.</strong></p>
LOCATION:Eureka Valley/Harvey Milk Memorial - Eureka Valley General Floor Area
CLASS:PUBLIC
TRANSP:TRANSPARENT
END:VEVENT
BEGIN:VALARM
TRIGGER:-PT1440M
ACTION:DISPLAY
DESCRIPTION:Event Reminder - Book Club: Somewhere in Time historical fiction
END:VALARM
END:VCALENDAR