BEGIN:VCALENDAR
VERSION:2.0
PRODID:SFPL Web Calendar
BEGIN:VEVENT
UID:64132@sfpl.org
DTSTAMP:20230730T220000Z
DTSTART:20230730T220000Z
DTEND:20230730T230000Z
SUMMARY:Activity: LGBTQIA+ Book Swap
DESCRIPTION:<p>Bring your gently used LGBTQIA books and swap them for some new-to-you titles. &nbsp;</p>

<p>Fiction and non-fiction books welcome!</p>
LOCATION:Eureka Valley/Harvey Milk Memorial - Eureka Valley General Floor Area
CLASS:PUBLIC
TRANSP:TRANSPARENT
END:VEVENT
BEGIN:VALARM
TRIGGER:-PT1440M
ACTION:DISPLAY
DESCRIPTION:Event Reminder - Activity: LGBTQIA+ Book Swap
END:VALARM
END:VCALENDAR