BEGIN:VCALENDAR
VERSION:2.0
PRODID:SFPL Web Calendar
BEGIN:VEVENT
UID:64202@sfpl.org
DTSTAMP:20240105T020000Z
DTSTART:20240105T020000Z
DTEND:20240105T033000Z
SUMMARY:Book Club: World Literature, Italo Svevo's "Zeno's Conscience"
DESCRIPTION:<p>We discuss <em><a href="https://sfpl.bibliocommons.com/v2/search?custom_edit=false&query=title%3A%28Zeno%27s+Conscience%29+++isolanguage%3A%22eng%22&searchType=bl&suppress=true">Zeno's Conscience</a></em>, a classic comic&nbsp;novel by the Italian author <a href="https://sfpl.bibliocommons.com/v2/search?query=Svevo%2C%20Italo&searchType=author">Italo Svevo</a>.</p>

<p><a href="https://sfpl.bibliocommons.com/list/share/377327687_sfpl_johns/572513107_world_literature_book_club"><strong>World Literature Book Club reading list</strong></a></p>
LOCATION:Virtual Library
CLASS:PUBLIC
TRANSP:TRANSPARENT
END:VEVENT
BEGIN:VALARM
TRIGGER:-PT1440M
ACTION:DISPLAY
DESCRIPTION:Event Reminder - Book Club: World Literature, Italo Svevo's "Zeno's Conscience"
END:VALARM
END:VCALENDAR