BEGIN:VCALENDAR
VERSION:2.0
PRODID:SFPL Web Calendar
BEGIN:VEVENT
UID:64221@sfpl.org
DTSTAMP:20230730T210000Z
DTSTART:20230730T210000Z
DTEND:20230730T220000Z
SUMMARY:Workshop: Boba Making
DESCRIPTION:<p>Learn to make your own Boba tea. For ages 10&ndash;18.</p>
LOCATION:Noe Valley/Sally Brunn - Noe Valley Meeting Room
CLASS:PUBLIC
TRANSP:TRANSPARENT
END:VEVENT
BEGIN:VALARM
TRIGGER:-PT1440M
ACTION:DISPLAY
DESCRIPTION:Event Reminder - Workshop: Boba Making
END:VALARM
END:VCALENDAR