BEGIN:VCALENDAR
VERSION:2.0
PRODID:SFPL Web Calendar
BEGIN:VEVENT
UID:64222@sfpl.org
DTSTAMP:20230727T010000Z
DTSTART:20230727T010000Z
DTEND:20230727T020000Z
SUMMARY:Workshop: Sourdough Starter Class
DESCRIPTION:<p>Learn to make your own sourdough starter with an hour-long class led by <a href="https://sourflour.org/introduction-to-sourdough-baking/">Sour Flour</a>.</p>
LOCATION:Noe Valley/Sally Brunn - Noe Valley Meeting Room
CLASS:PUBLIC
TRANSP:TRANSPARENT
END:VEVENT
BEGIN:VALARM
TRIGGER:-PT1440M
ACTION:DISPLAY
DESCRIPTION:Event Reminder - Workshop: Sourdough Starter Class
END:VALARM
END:VCALENDAR