BEGIN:VCALENDAR
VERSION:2.0
PRODID:SFPL Web Calendar
BEGIN:VEVENT
UID:66249@sfpl.org
DTSTAMP:20231014T203000Z
DTSTART:20231014T203000Z
DTEND:20231014T213000Z
SUMMARY:Performance: Łowiczanie Polish Folk Ensemble
DESCRIPTION:<p><a href="https://www.polishfolk.org/">Łowiczanie Polish Folk Dance Ensemble,</a> Resident Dance Company of the Polish Club in San Francisco,&nbsp;a group of skilled and dedicated dancers present traditional dance from Poland.</p>
LOCATION:Richmond/Senator Milton Marks - Richmond Meeting Room
CLASS:PUBLIC
TRANSP:TRANSPARENT
END:VEVENT
BEGIN:VALARM
TRIGGER:-PT1440M
ACTION:DISPLAY
DESCRIPTION:Event Reminder - Performance: Łowiczanie Polish Folk Ensemble
END:VALARM
END:VCALENDAR