BEGIN:VCALENDAR
VERSION:2.0
PRODID:SFPL Web Calendar
BEGIN:VEVENT
UID:66434@sfpl.org
DTSTAMP:20231011T220000Z
DTSTART:20231011T220000Z
DTEND:20231011T233000Z
SUMMARY:Film: The Price of Fear
DESCRIPTION:<p>A wealthy businesswoman's involvement in a hit and run accident draws her into a world of crime and murder. <em><a href="https://en.wikipedia.org/wiki/The_Price_of_Fear_(1956_film)">The Price of Fear</a> </em>stars Merle Oberon and Lex Barker. Not Rated, 79 mins., 1956. Closed captioned (CC) in English.</p>
LOCATION:Golden Gate Valley - Golden Gate Valley Meeting Room
CLASS:PUBLIC
TRANSP:TRANSPARENT
END:VEVENT
BEGIN:VALARM
TRIGGER:-PT1440M
ACTION:DISPLAY
DESCRIPTION:Event Reminder - Film: The Price of Fear
END:VALARM
END:VCALENDAR