BEGIN:VCALENDAR
VERSION:2.0
PRODID:SFPL Web Calendar
BEGIN:VEVENT
UID:66791@sfpl.org
DTSTAMP:20240105T220000Z
DTSTART:20240105T220000Z
DTEND:20240105T233000Z
SUMMARY:Social: STEAM Fairy Land Tea Party
DESCRIPTION:<p>Use the power of STEAM to create a fairy themed tea party. We will make butter for sandwiches, color changing tea, and craft light-up fairy houses. For ages 7 and older.&nbsp;Space limited. Reservations required: (415) 355-2818 (starting December 15).</p>
LOCATION:Sunset - Sunset Program Room
CLASS:PUBLIC
TRANSP:TRANSPARENT
END:VEVENT
BEGIN:VALARM
TRIGGER:-PT1440M
ACTION:DISPLAY
DESCRIPTION:Event Reminder - Social: STEAM Fairy Land Tea Party
END:VALARM
END:VCALENDAR