BEGIN:VCALENDAR
VERSION:2.0
PRODID:SFPL Web Calendar
BEGIN:VEVENT
UID:66894@sfpl.org
DTSTAMP:20230902T210000Z
DTSTART:20230902T210000Z
DTEND:20230902T220000Z
SUMMARY:Workshop: Chinese Calligraphy
DESCRIPTION:<p>Learn the art of Chinese calligraphy in celebration of the Autumn Moon Festival. Whether you're a beginner or have experience, you will learn how to hold the brush, master basic strokes&nbsp;and create calligraphic artwork.</p>

<p>Space limited.&nbsp;Reservations required: (415) 355-5700.</p>
LOCATION:Ortega - Ortega Meeting Room
CLASS:PUBLIC
TRANSP:TRANSPARENT
END:VEVENT
BEGIN:VALARM
TRIGGER:-PT1440M
ACTION:DISPLAY
DESCRIPTION:Event Reminder - Workshop: Chinese Calligraphy
END:VALARM
END:VCALENDAR