BEGIN:VCALENDAR
VERSION:2.0
PRODID:SFPL Web Calendar
BEGIN:VEVENT
UID:67070@sfpl.org
DTSTAMP:20231221T223000Z
DTSTART:20231221T223000Z
DTEND:20231221T233000Z
SUMMARY:Workshop: Library Rangers and Trees
DESCRIPTION:<p>Join California State Parks Staff from Candlestick Point for an hour of fun! We&rsquo;ll read a story, do an activity, and make a craft. Each month focuses on a different topic &ndash; this month, we'll learn all about trees and their life cycle. For more information, contact the Candlestick Point team at&nbsp;<a href="mailto:candlestick@ports-ca.us">candlestick@ports-ca.us</a>&nbsp;or (415) 822-8033.</p>
LOCATION:Portola - Portola Meeting Room
CLASS:PUBLIC
TRANSP:TRANSPARENT
END:VEVENT
BEGIN:VALARM
TRIGGER:-PT1440M
ACTION:DISPLAY
DESCRIPTION:Event Reminder - Workshop: Library Rangers and Trees
END:VALARM
END:VCALENDAR