BEGIN:VCALENDAR
VERSION:2.0
PRODID:SFPL Web Calendar
BEGIN:VEVENT
UID:67226@sfpl.org
DTSTAMP:20230729T190000Z
DTSTART:20230729T190000Z
DTEND:20230729T200000Z
SUMMARY:Workshop: YELL Presents Ethical Tarot for Teens
DESCRIPTION:<p>Learn how to use spiritual tools for personal growth for you and your friends. We will discuss Jungian Archetypes, Astrology, Numerology and the Kabbala, as well as myths and symbols as lenses into the human story. We will do some short readings to bring in the art and images of the cards and explore how synchronicities work in our lives.&nbsp;</p>

<p>Magick Altman is the author of <em>Magick Tarot:&nbsp;A Journey of Self-Realization.</em>&nbsp;&nbsp;Magick has been a practitioner of the Tarot for over 30 years. She teaches, lectures, and writes about this amazing tool. Her writing reflects her card reading style which is packed with stories and anecdotes that make her wisdom very accessible. Magick is proficient in the use of Astrology, Mythology, Archetypes, and Numerology. Her motto is "The soul rejoices in hearing what it already knows". She spends her time between Sebastopol and San Francisco where her three daughters and grandchildren reside.</p>

<p><strong>Connect:&nbsp;</strong></p>

<p><a href="https://www.instagram.com/magickaltimes">Magick Altman - Instagram</a></p>

<p>Our Youth Engaged in Library Leadership (YELL) interns have been working hard all summer to prepare a surprise community event. Come and support your local high school teens<strong>.</strong></p>
LOCATION:West Portal - West Portal Children's Area
CLASS:PUBLIC
TRANSP:TRANSPARENT
END:VEVENT
BEGIN:VALARM
TRIGGER:-PT1440M
ACTION:DISPLAY
DESCRIPTION:Event Reminder - Workshop: YELL Presents Ethical Tarot for Teens
END:VALARM
END:VCALENDAR