BEGIN:VCALENDAR
VERSION:2.0
PRODID:SFPL Web Calendar
BEGIN:VEVENT
UID:67707@sfpl.org
DTSTAMP:20231213T010000Z
DTSTART:20231213T010000Z
DTEND:20231213T023000Z
SUMMARY:Author: Christina Gerhardt, Sea Change
DESCRIPTION:<p>Christina Gerhardt speaks on her book<em> <a href="https://sfpl.bibliocommons.com/v2/record/S93C5766873">Sea Change</a></em>. The title includes essays, maps, art, and poetry showing island nations in a warming world. Low-lying islands are least responsible for climate change, but are suffering the brunt of it. This atlas reorients your vantage point to center these islands, highlighting Indigenous and Black voices and the work of communities taking action for local and global climate justice</p>

<p>Gerhardt&nbsp;is Associate Professor at the University of Hawai&rsquo;i at Mānoa, Senior Fellow at the University of California, Berkeley, and former Barron Professor of Environment and the&nbsp;Humanities at Princeton University. Her environmental journalism has been published by&nbsp;<em>Grist.org</em>,&nbsp;<em>The Nation</em>,&nbsp;<em>The Progressive</em>, and the&nbsp;<em>Washington Monthly</em>.</p>

<p>A limited number of copies of <em>Sea Change</em> will be given to attendees.</p>

<p>Connect:</p>

<p><a href="https://twitter.com/TinaGerhardtEJ">Christina Gerhardt on Twitter/X</a></p>
LOCATION:Main Library - Environmental Center Exhibit Space - 5th Fl
CLASS:PUBLIC
TRANSP:TRANSPARENT
END:VEVENT
BEGIN:VALARM
TRIGGER:-PT1440M
ACTION:DISPLAY
DESCRIPTION:Event Reminder - Author: Christina Gerhardt, Sea Change
END:VALARM
END:VCALENDAR