BEGIN:VCALENDAR
VERSION:2.0
PRODID:SFPL Web Calendar
BEGIN:VEVENT
UID:68034@sfpl.org
DTSTAMP:20231012T220000Z
DTSTART:20231012T220000Z
DTEND:20231013T000000Z
SUMMARY:Film: Cuban Food Stories + discussion
DESCRIPTION:<p>After a decade living in the United States, Asori Soto returns to his homeland of Cuba to search for the missing flavors of his childhood &mdash; a journey to discover culinary traditions long thought lost due to the hardship that Cuba survived after the collapse of the Soviet Union. Soto embarks on a road-trip adventure all around the island, visiting regions so remote that you can only arrive by raft, horseback, or swimming. His journey will leave your mouth watering as we go from the middle of nowhere to the cities in order to rediscover the culinary roots of an exciting Cuba in a time of change.</p>

<p>"Soto&rsquo;s love for his homeland is unmistakable. His motivation to capture the stories of his people and share them with the world is a treat for those of us who love food and history and how the two intersect." &mdash; <em>Forbes</em></p>

<p>NR, 82 min., 2018. Closed captions (CC) in English.</p>

<p>This film screening will be followed by a short group discussion for anyone who would like to stay.</p>
LOCATION:Golden Gate Valley - Golden Gate Valley Meeting Room
CLASS:PUBLIC
TRANSP:TRANSPARENT
END:VEVENT
BEGIN:VALARM
TRIGGER:-PT1440M
ACTION:DISPLAY
DESCRIPTION:Event Reminder - Film: Cuban Food Stories + discussion
END:VALARM
END:VCALENDAR