BEGIN:VCALENDAR
VERSION:2.0
PRODID:SFPL Web Calendar
BEGIN:VEVENT
UID:68035@sfpl.org
DTSTAMP:20231005T220000Z
DTSTART:20231005T220000Z
DTEND:20231006T000000Z
SUMMARY:Film: Adela + discussion
DESCRIPTION:<p>Adela, a former radio personality, celebrates her 80th birthday alone in the slums of Manila, longing for her family and the stability of years gone by. Directed by Adolfo Alix Jr.</p>

<p><em>"</em>The widely acclaimed Filipino actress Anita Linda, who has made more than 100 movies since the early 1940s, gives a quietly transfixing performance as the title character of <em>Adela</em>.<em>" - New York Times</em></p>

<p>NR, 86 min., 2008. Closed captions (CC) in English.</p>

<p>This film screening will be followed by a short group discussion for anyone who would like to stay.</p>
LOCATION:Golden Gate Valley - Golden Gate Valley Meeting Room
CLASS:PUBLIC
TRANSP:TRANSPARENT
END:VEVENT
BEGIN:VALARM
TRIGGER:-PT1440M
ACTION:DISPLAY
DESCRIPTION:Event Reminder - Film: Adela + discussion
END:VALARM
END:VCALENDAR