BEGIN:VCALENDAR
VERSION:2.0
PRODID:SFPL Web Calendar
BEGIN:VEVENT
UID:68093@sfpl.org
DTSTAMP:20231227T230000Z
DTSTART:20231227T230000Z
DTEND:20231228T000000Z
SUMMARY:Activity: Therapy Pets at the Library
DESCRIPTION:<p>Come meet our&nbsp;therapy pet provided by the SFSPCA&nbsp;that helps provide comfort and stress relief.</p>
LOCATION:Excelsior - Excelsior Meeting Room
CLASS:PUBLIC
TRANSP:TRANSPARENT
END:VEVENT
BEGIN:VALARM
TRIGGER:-PT1440M
ACTION:DISPLAY
DESCRIPTION:Event Reminder - Activity: Therapy Pets at the Library
END:VALARM
END:VCALENDAR