BEGIN:VCALENDAR
VERSION:2.0
PRODID:SFPL Web Calendar
BEGIN:VEVENT
UID:68364@sfpl.org
DTSTAMP:20230726T180000Z
DTSTART:20230726T180000Z
DTEND:20230726T190000Z
SUMMARY:Activity: Friendship Bracelets
DESCRIPTION:<p>Celebrate Taylor Swift's Era Tour by making sweet friendship bracelets to keep or trade.&nbsp;</p>

<p>"'Cause there were pages turned with the bridges burned<br />
Everything you lose is a step you take<br />
So make the friendship bracelets<br />
Take the moment and taste it<br />
You've got no reason to be afraid"</p>
LOCATION:Bayview/Linda Brooks-Burton - Bayview General Floor Area
CLASS:PUBLIC
TRANSP:TRANSPARENT
END:VEVENT
BEGIN:VALARM
TRIGGER:-PT1440M
ACTION:DISPLAY
DESCRIPTION:Event Reminder - Activity: Friendship Bracelets
END:VALARM
END:VCALENDAR