BEGIN:VCALENDAR
VERSION:2.0
PRODID:SFPL Web Calendar
BEGIN:VEVENT
UID:68769@sfpl.org
DTSTAMP:20231010T230000Z
DTSTART:20231010T230000Z
DTEND:20231011T010000Z
SUMMARY:Workshop: Breathwork
DESCRIPTION:<p>Certified Breathwork Facilitator, Erynne Elkins will guide Excelsior Branch library patrons through a deeper awareness and understanding of how optimally functioning chakras can support our emotional wellness partnered with transformative breathwork. She will facilitate this session with ambient music and supportive, vocal prompts. As we step away from the non-stop busyness, we&rsquo;ll come together and breathe&hellip;individually and as a community. The entire session, including 35- minutes of breathwork, will last two hours. The first 20 registrants who are present for the entire two-hour session will receive a complimentary copy of The Complete Guide to Chakras Vintage Edition by Ambika Wauters. Wearing a face mask and/or bringing your own yoga mat is optional.</p>

<p>Space limited. Reservations Required: 415-355-2868.</p>
LOCATION:Excelsior - Excelsior Meeting Room
CLASS:PUBLIC
TRANSP:TRANSPARENT
END:VEVENT
BEGIN:VALARM
TRIGGER:-PT1440M
ACTION:DISPLAY
DESCRIPTION:Event Reminder - Workshop: Breathwork
END:VALARM
END:VCALENDAR