BEGIN:VCALENDAR
VERSION:2.0
PRODID:SFPL Web Calendar
BEGIN:VEVENT
UID:69012@sfpl.org
DTSTAMP:20231221T230000Z
DTSTART:20231221T230000Z
DTEND:20231222T010000Z
SUMMARY:Film: Red Firecracker, Green Firecracker / Pao Da Shuang Deng
DESCRIPTION:<p>A young woman's inheritance of a fireworks factory is compromised when she falls in love with a headstrong, itinerant painter hired for Chinese New Year.&nbsp;</p>

<p>Long out-of-print, not available on disc or streaming services.</p>

<p>"Evocative, romantic tale, beautifully directed and photographed and set in the early 20th century." &mdash; Leonard Maltin</p>

<p>R, 111 mins., 1994. Closed captions (CC) in English.</p>
LOCATION:Golden Gate Valley - Golden Gate Valley Meeting Room
CLASS:PUBLIC
TRANSP:TRANSPARENT
END:VEVENT
BEGIN:VALARM
TRIGGER:-PT1440M
ACTION:DISPLAY
DESCRIPTION:Event Reminder - Film: Red Firecracker, Green Firecracker / Pao Da Shuang Deng
END:VALARM
END:VCALENDAR