BEGIN:VCALENDAR
VERSION:2.0
PRODID:SFPL Web Calendar
BEGIN:VEVENT
UID:69530@sfpl.org
DTSTAMP:20231005T220000Z
DTSTART:20231005T220000Z
DTEND:20231006T003000Z
SUMMARY:Activity: DIY Eclipse Viewer
DESCRIPTION:<p>Make a simple pinhole eclipse viewer, play an eclipse game and read an eclipse story in honor of the Annular Eclipse on Saturday October 14th. For ages 8&ndash;18.</p>
LOCATION:Richmond/Senator Milton Marks - Richmond Meeting Room
CLASS:PUBLIC
TRANSP:TRANSPARENT
END:VEVENT
BEGIN:VALARM
TRIGGER:-PT1440M
ACTION:DISPLAY
DESCRIPTION:Event Reminder - Activity: DIY Eclipse Viewer
END:VALARM
END:VCALENDAR