BEGIN:VCALENDAR
VERSION:2.0
PRODID:SFPL Web Calendar
BEGIN:VEVENT
UID:69656@sfpl.org
DTSTAMP:20231010T190000Z
DTSTART:20231010T190000Z
DTEND:20231010T200000Z
SUMMARY:Presentation: Aging in Place with Home Match
DESCRIPTION:<p>Learn how home sharing works and its benefits for older adults. <a href="http://www.frontporch.net/homematch">Home Match</a> is a program that connects older adults who have a spare room with people who need affordable housing. It helps older adults age in place and enjoy social support that they need. Join us to learn about the&nbsp;participant vetting process, lease agreements and available support offered from beginning to end.</p>
LOCATION:North Beach - North Beach Library Community Room
CLASS:PUBLIC
TRANSP:TRANSPARENT
END:VEVENT
BEGIN:VALARM
TRIGGER:-PT1440M
ACTION:DISPLAY
DESCRIPTION:Event Reminder - Presentation: Aging in Place with Home Match
END:VALARM
END:VCALENDAR