BEGIN:VCALENDAR
VERSION:2.0
PRODID:SFPL Web Calendar
BEGIN:VEVENT
UID:69729@sfpl.org
DTSTAMP:20231216T210000Z
DTSTART:20231216T210000Z
DTEND:20231216T221500Z
SUMMARY:Workshop: Holiday Chutneys
DESCRIPTION:<p>Author of <em>Cooking Together: A Vegetarian Co-op Cookbook</em> Shanta&nbsp;Nimbark Sacharoff will read from her cookbook and talk about why we share&nbsp;food and food preparation to build community. She will include&nbsp;ideas for kids, working adults and seniors&nbsp;to engage together in the kitchen.</p>

<p>Condiments being important elements in the cuisine of India, Shanta will demonstrate&nbsp;how to prepare two types of chutneys. She will explain what culinary herbs and spices go into the chutneys and how they enhance&nbsp;flavors. Recipes for the chutneys will be distributed. Chutneys make delicious holiday gifts.</p>

<p>Shanta will conclude with a Q&A session while participants sample the chutneys with crackers and sip homemade chai.</p>

<p>Space limited. Reservation required:&nbsp;415-355-2898.&nbsp;</p>

<p>&nbsp;</p>
LOCATION:Ingleside - Ingleside Meeting Room
CLASS:PUBLIC
TRANSP:TRANSPARENT
END:VEVENT
BEGIN:VALARM
TRIGGER:-PT1440M
ACTION:DISPLAY
DESCRIPTION:Event Reminder - Workshop: Holiday Chutneys
END:VALARM
END:VCALENDAR