BEGIN:VCALENDAR
VERSION:2.0
PRODID:SFPL Web Calendar
BEGIN:VEVENT
UID:70014@sfpl.org
DTSTAMP:20231007T180000Z
DTSTART:20231007T180000Z
DTEND:20231007T193000Z
SUMMARY:Activity: Tinker Saturday
DESCRIPTION:<p>Create and program a self-driving car.&nbsp; Explore the joy of tinkering.&nbsp;&nbsp;</p>
LOCATION:West Portal - West Portal Children's Area
CLASS:PUBLIC
TRANSP:TRANSPARENT
END:VEVENT
BEGIN:VALARM
TRIGGER:-PT1440M
ACTION:DISPLAY
DESCRIPTION:Event Reminder - Activity: Tinker Saturday
END:VALARM
END:VCALENDAR