BEGIN:VCALENDAR
VERSION:2.0
PRODID:SFPL Web Calendar
BEGIN:VEVENT
UID:70027@sfpl.org
DTSTAMP:20231014T200000Z
DTSTART:20231014T200000Z
DTEND:20231014T210000Z
SUMMARY:Workshop: Mini Cactus Piñata
DESCRIPTION:<p>Learn&nbsp;how to make a Mini Cactus&nbsp;Pi&ntilde;ata&nbsp;with Chukaruka!&nbsp;&nbsp;The workshop offers a step by step tutorial of the Mini Cactus&nbsp;Pi&ntilde;ata&nbsp;that brings out the creativity and greater appreciation for Latinx&nbsp;Heritage. This workshop is for library patrons&nbsp;ages 5 and up.</p>

<p>Space&nbsp;limited. Reservations Required.&nbsp;</p>

<p>&nbsp;</p>

<p>Connect with Chukaruka:<br />
<a href="https://chukaruka.com/">Website&nbsp;</a><br />
<a href="https://www.instagram.com/accounts/login/?next=https%3A%2F%2Fwww.instagram.com%2Fchukaruka%2F">Instagram</a></p>
LOCATION:Excelsior - Excelsior Meeting Room
CLASS:PUBLIC
TRANSP:TRANSPARENT
END:VEVENT
BEGIN:VALARM
TRIGGER:-PT1440M
ACTION:DISPLAY
DESCRIPTION:Event Reminder - Workshop: Mini Cactus Piñata
END:VALARM
END:VCALENDAR