BEGIN:VCALENDAR
VERSION:2.0
PRODID:SFPL Web Calendar
BEGIN:VEVENT
UID:70598@sfpl.org
DTSTAMP:20231011T230000Z
DTSTART:20231011T230000Z
DTEND:20231012T003000Z
SUMMARY:Workshop: Día de los Muertos Sugar Skulls
DESCRIPTION:<p>Decorate a sugar skull in memory of a loved one as a part of a tradition for D&iacute;a de los Muertos. All decorating materials will be provided. This program is intended for adults but families are welcome.</p>

<p>This workshop will be popular. Space limited. Reservations required: (415) 355-2868</p>

<p>Decora una calavera de az&uacute;car en memoria de un ser querido como parte de una tradici&oacute;n del D&iacute;a de los Muertos. Se proporcionar&aacute;n todos los materiales de decoraci&oacute;n.</p>

<p>Este programa est&aacute; intentado para adultos, pero las familias son bienvenidas. Este taller ser&aacute; popular. Se requiere reservaciones:&nbsp;(415) 355-2868</p>
LOCATION:Excelsior - Excelsior Meeting Room
CLASS:PUBLIC
TRANSP:TRANSPARENT
END:VEVENT
BEGIN:VALARM
TRIGGER:-PT1440M
ACTION:DISPLAY
DESCRIPTION:Event Reminder - Workshop: Día de los Muertos Sugar Skulls
END:VALARM
END:VCALENDAR