BEGIN:VCALENDAR
VERSION:2.0
PRODID:SFPL Web Calendar
BEGIN:VEVENT
UID:70635@sfpl.org
DTSTAMP:20231007T000000Z
DTSTART:20231007T000000Z
DTEND:20231007T003000Z
SUMMARY:Early Learning: Banned Book Storytime
DESCRIPTION:<p>Join us for a special story time&nbsp;celebrating <a href="https://www.ala.org/advocacy/bbooks/banned">Banned Books Week 2023</a>: &ldquo;Let Freedom Read!&rdquo; We will read children's books that have been banned or challenged and display some for you to check out and take home.</p>
LOCATION:Glen Park - Glen Park Meeting Room
CLASS:PUBLIC
TRANSP:TRANSPARENT
END:VEVENT
BEGIN:VALARM
TRIGGER:-PT1440M
ACTION:DISPLAY
DESCRIPTION:Event Reminder - Early Learning: Banned Book Storytime
END:VALARM
END:VCALENDAR