BEGIN:VCALENDAR
VERSION:2.0
PRODID:SFPL Web Calendar
BEGIN:VEVENT
UID:71763@sfpl.org
DTSTAMP:20231212T230000Z
DTSTART:20231212T230000Z
DTEND:20231213T000000Z
SUMMARY:Book Club: Cozy Capers & Mysteries
DESCRIPTION:<p>A monthly discussion on crime novels featuring amateur sleuths, quirky characters and homey communities. This month's novel is&nbsp;<a href="https://sfpl.bibliocommons.com/v2/record/S93C5510621"><em>A Christmas Candy Killing</em></a> by Christina&nbsp;Romeril.&nbsp;Identical twin sisters Alex and Hannah are the owners of Murder and Mayhem, a mystery bookshop that sells their famous poison-themed Killer Chocolates.&nbsp;Their chocolates are to die for--but things aren't so sweet when a real killer comes to town.</p>
LOCATION:Presidio - Presidio Meeting Room
CLASS:PUBLIC
TRANSP:TRANSPARENT
END:VEVENT
BEGIN:VALARM
TRIGGER:-PT1440M
ACTION:DISPLAY
DESCRIPTION:Event Reminder - Book Club: Cozy Capers & Mysteries
END:VALARM
END:VCALENDAR