BEGIN:VCALENDAR
VERSION:2.0
PRODID:SFPL Web Calendar
BEGIN:VEVENT
UID:71764@sfpl.org
DTSTAMP:20240109T230000Z
DTSTART:20240109T230000Z
DTEND:20240110T000000Z
SUMMARY:Book Club: Cozy Capers & Mysteries
DESCRIPTION:<p>A monthly discussion on crime novels featuring amateur sleuths, quirky characters and homey communities.&nbsp;This month's novel is <em><a href="https://sfpl.bibliocommons.com/v2/record/S93C5924206">The Mystery Guest</a></em> by Nita Prose. With her flair for cleaning and proper etiquette, Molly Gray has risen through the ranks of the glorious five-star Regency Grand Hotel to become the esteemed Head Maid. But just as her life reaches a pinnacle state of perfection, her world is turned upside down when J.D. Grimthorpe, the world-renowned mystery author, drops dead-- very dead --on the hotel's tea room floor.</p>
LOCATION:Presidio - Presidio Meeting Room
CLASS:PUBLIC
TRANSP:TRANSPARENT
END:VEVENT
BEGIN:VALARM
TRIGGER:-PT1440M
ACTION:DISPLAY
DESCRIPTION:Event Reminder - Book Club: Cozy Capers & Mysteries
END:VALARM
END:VCALENDAR