BEGIN:VCALENDAR
VERSION:2.0
PRODID:SFPL Web Calendar
BEGIN:VEVENT
UID:72456@sfpl.org
DTSTAMP:20231216T000000Z
DTSTART:20231216T000000Z
DTEND:20231216T010000Z
SUMMARY:Workshop: Hot Chocolate Jars
DESCRIPTION:<p>Come create your own hot chocolate mix and decorate the jar as a cozy treat for yourself or a special somebody.&nbsp;</p>

<p>For ages 10&ndash;18. Space limited. Reservation required: (415) 355-2868.&nbsp;</p>
LOCATION:Excelsior - Excelsior Meeting Room
CLASS:PUBLIC
TRANSP:TRANSPARENT
END:VEVENT
BEGIN:VALARM
TRIGGER:-PT1440M
ACTION:DISPLAY
DESCRIPTION:Event Reminder - Workshop: Hot Chocolate Jars
END:VALARM
END:VCALENDAR