BEGIN:VCALENDAR
VERSION:2.0
PRODID:SFPL Web Calendar
BEGIN:VEVENT
UID:72938@sfpl.org
DTSTAMP:20240103T010000Z
DTSTART:20240103T010000Z
DTEND:20240103T030000Z
SUMMARY:Film: Rock 'n' Roll High School
DESCRIPTION:<p>Rock 'n' roller Riff Randell leads a&nbsp;rebellion&nbsp;against a repressive principal with the help of the Ramones.&nbsp;Space limited.</p>

<p>PG, 93 min., 1979. Closed captions (CC) in English.</p>
LOCATION:Potrero - Potrero Meeting Room
CLASS:PUBLIC
TRANSP:TRANSPARENT
END:VEVENT
BEGIN:VALARM
TRIGGER:-PT1440M
ACTION:DISPLAY
DESCRIPTION:Event Reminder - Film: Rock 'n' Roll High School
END:VALARM
END:VCALENDAR