BEGIN:VCALENDAR
VERSION:2.0
PRODID:SFPL Web Calendar
BEGIN:VEVENT
UID:73107@sfpl.org
DTSTAMP:20231229T220000Z
DTSTART:20231229T220000Z
DTEND:20231230T000000Z
SUMMARY:Film: Balto
DESCRIPTION:<p>Spend an afternoon with a winter classic, Balto, a film based on a true story of the incredible spirit of a part-Husky/part-wolf canine. Snacks will be provided.&nbsp;For children and their families.</p>

<p>G, 78 mins., 2002.&nbsp;Closed captions (CC) in English.</p>
LOCATION:Sunset - Sunset Program Room
CLASS:PUBLIC
TRANSP:TRANSPARENT
END:VEVENT
BEGIN:VALARM
TRIGGER:-PT1440M
ACTION:DISPLAY
DESCRIPTION:Event Reminder - Film: Balto
END:VALARM
END:VCALENDAR