BEGIN:VCALENDAR
VERSION:2.0
PRODID:SFPL Web Calendar
BEGIN:VEVENT
UID:73360@sfpl.org
DTSTAMP:20231214T230000Z
DTSTART:20231214T230000Z
DTEND:20231215T010000Z
SUMMARY:Film: Girlhood
DESCRIPTION:<p>Fed up with her abusive family situation, lack of school prospects and the &ldquo;boys&rsquo; law&rdquo; in the neighborhood, Marieme starts a new life after meeting a group of three free-spirited girls. A French coming-of-age story, directed by C&eacute;line Sciamma. Rotten Tomatoes rating of 96%.</p>

<p>"Honest, empowering and electrifying. Bravo!" &mdash; Mark Kermode, <em>Observer </em>(UK)</p>

<p>NR, 113 mins., 2014. Closed captions (CC) in English.</p>

<p>&nbsp;</p>
LOCATION:Golden Gate Valley - Golden Gate Valley Meeting Room
CLASS:PUBLIC
TRANSP:TRANSPARENT
END:VEVENT
BEGIN:VALARM
TRIGGER:-PT1440M
ACTION:DISPLAY
DESCRIPTION:Event Reminder - Film: Girlhood
END:VALARM
END:VCALENDAR