BEGIN:VCALENDAR
VERSION:2.0
PRODID:SFPL Web Calendar
BEGIN:VEVENT
UID:73379@sfpl.org
DTSTAMP:20231216T223000Z
DTSTART:20231216T223000Z
DTEND:20231217T010000Z
SUMMARY:Activity:Paint-by-Number
DESCRIPTION:<p>Gather for an afternoon&nbsp;of colorful fun with painting-by-numbers. One painting kit per family.&nbsp;For ages 12+ and their adults.&nbsp;Space limited. Reservations required: (415) 355-2822.</p>

<p>&nbsp;</p>

<p>&nbsp;</p>
LOCATION:Potrero - Potrero Meeting Room
CLASS:PUBLIC
TRANSP:TRANSPARENT
END:VEVENT
BEGIN:VALARM
TRIGGER:-PT1440M
ACTION:DISPLAY
DESCRIPTION:Event Reminder - Activity:Paint-by-Number
END:VALARM
END:VCALENDAR